BEGIN:VCALENDAR
VERSION:2.0
PRODID:-//Hämeenlinnan Työväenyhdistys ry - HTY - ECPv4.6.3//NONSGML v1.0//EN
CALSCALE:GREGORIAN
METHOD:PUBLISH
X-WR-CALNAME:Hämeenlinnan Työväenyhdistys ry - HTY
X-ORIGINAL-URL:https://www.hty.fi
X-WR-CALDESC:Events for Hämeenlinnan Työväenyhdistys ry - HTY
BEGIN:VEVENT
DTSTART;TZID=Europe/Helsinki:20180501T170000
DTEND;TZID=Europe/Helsinki:20180501T200000
DTSTAMP:20260419T193605
CREATED:20180410T184223Z
LAST-MODIFIED:20180423T180708Z
UID:1336-1525194000-1525204800@www.hty.fi
SUMMARY:Ville Leinonen Futureiman Suistolla
DESCRIPTION:Hämeenlinnan työväenyhdistys järjestää vappukonsertin Suisto-klubilla Verkatehtaalla 1.5.2018 alkaen kello 17. Tule fiilistelemään 1980-luvun iskelmäcovereita diskoversioina Villa Leinonen Futureimanin tahtiin. Sisään pääsee maksutta. Tervetuloa! \nPaikalla on myös demarikaupunginvaltuutettuja. \n
URL:https://www.hty.fi/event/ville-leinonen-futureiman-suistolla/
LOCATION:Verkatehtaankuja 7\, Hämeenlinna\, Suomi
CATEGORIES:Konsertti,Tapahtuma
ATTACH;FMTTYPE=image/jpeg:https://www.hty.fi/wp-content/uploads/2017/01/Ville-Leinonen-Hei-taas-albumin-kansi.jpg
END:VEVENT
END:VCALENDAR