BEGIN:VCALENDAR
VERSION:2.0
PRODID:-//Hämeenlinnan Työväenyhdistys ry - HTY - ECPv4.6.3//NONSGML v1.0//EN
CALSCALE:GREGORIAN
METHOD:PUBLISH
X-WR-CALNAME:Hämeenlinnan Työväenyhdistys ry - HTY
X-ORIGINAL-URL:https://www.hty.fi
X-WR-CALDESC:Events for Hämeenlinnan Työväenyhdistys ry - HTY
BEGIN:VEVENT
DTSTART;TZID=Europe/Helsinki:20180307T183000
DTEND;TZID=Europe/Helsinki:20180307T203000
DTSTAMP:20260419T221441
CREATED:20180113T170426Z
LAST-MODIFIED:20180113T170426Z
UID:1177-1520447400-1520454600@www.hty.fi
SUMMARY:Tule muistelemaan HTY:n toimintaa 1990-luvulla ja 2000-luvulla!
DESCRIPTION:Kaipaamme muistitietoa HTY:n historian kirjoittamisen tueksi. Kevään toinen muisteluilta on keskiviikkona 7. maaliskuusta klo 18.30 HTY:n toimitilassa (Raatihuoneenkatu 20).  \nToinen HTY:n historian muisteluilta kattaa 1990-luvun ja 2000-luvun ensimmäisen vuosikymmenen. Tuohon ajanjaksoon meidät johdattaa HTY:n entinen puheenjohtaja Irja Appelroth. Tule tapaamaan puoluetovereita ja kertomaan omia muistojasi HTY:n toiminnasta! Ota myös mukaan HTY:n toimintaan liittyviä valokuvia. \n
URL:https://www.hty.fi/event/tule-muistelemaan-htyn-toimintaa-1990-luvulla-ja-2000-luvulla/
LOCATION:Raatihuoneenkatu 20\, Hämeenlinna
CATEGORIES:Teematapahtuma
END:VEVENT
END:VCALENDAR