BEGIN:VCALENDAR
VERSION:2.0
PRODID:-//Hämeenlinnan Työväenyhdistys ry - HTY - ECPv4.6.3//NONSGML v1.0//EN
CALSCALE:GREGORIAN
METHOD:PUBLISH
X-WR-CALNAME:Hämeenlinnan Työväenyhdistys ry - HTY
X-ORIGINAL-URL:https://www.hty.fi
X-WR-CALDESC:Events for Hämeenlinnan Työväenyhdistys ry - HTY
BEGIN:VEVENT
DTSTART;TZID=Europe/Helsinki:20180208T183000
DTEND;TZID=Europe/Helsinki:20180208T203000
DTSTAMP:20260419T193816
CREATED:20180113T165026Z
LAST-MODIFIED:20180113T165313Z
UID:1170-1518114600-1518121800@www.hty.fi
SUMMARY:Tule muistelemaan HTY:n toimintaa 1970- ja 1980-luvuilla!
DESCRIPTION:Hämeenlinnan Työväenyhdistys täyttää tänä vuonna 130 vuotta. Sen kunniaksi on työn alla kirja Hämeenlinnan Työväenyhdistyksen historiasta. HTY:n historian kirjoittaa FL Liisa Koskelainen HTY:n historiatyöryhmän avustamana. Kirja julkistetaan 1.12.2018\, jolloin myös järjestetään juhlavuoden pääjuhla Hämeenlinnan Raatihuoneella. \nKaipaamme muistitietoa historian kirjoittamisen tueksi. Niinpä järjestämme kevään 2018 aikana kolme muisteluiltaa. Näistä ensimmäinen on torstaina 8. helmikuuta klo 18.30 HTY:n toimitilassa (Raatihuoneenkatu 20).  \nEnsimmäinen HTY:n historian muisteluilta kattaa 1970- ja 1980-luvut. Tuohon ajanjaksoon meidät johdattaa HTY:n entinen puheenjohtaja Aarne Kauranen. Tule tapaamaan puoluetovereita ja kertomaan omia muistojasi HTY:n toiminnasta! Ota myös mukaan HTY:n toimintaan liittyviä valokuvia. \n  \n
URL:https://www.hty.fi/event/tule-muistelemaan-htyn-toimintaa-1970-ja-1980-luvuilla/
LOCATION:Raatihuoneenkatu 20\, Hämeenlinna
CATEGORIES:Teematapahtuma
END:VEVENT
END:VCALENDAR