BEGIN:VCALENDAR
VERSION:2.0
PRODID:-//Hämeenlinnan Työväenyhdistys ry - HTY - ECPv4.6.3//NONSGML v1.0//EN
CALSCALE:GREGORIAN
METHOD:PUBLISH
X-WR-CALNAME:Hämeenlinnan Työväenyhdistys ry - HTY
X-ORIGINAL-URL:https://www.hty.fi
X-WR-CALDESC:Events for Hämeenlinnan Työväenyhdistys ry - HTY
BEGIN:VEVENT
DTSTART;TZID=Europe/Helsinki:20240225T120000
DTEND;TZID=Europe/Helsinki:20240225T140000
DTSTAMP:20260419T193136
CREATED:20240123T120944Z
LAST-MODIFIED:20240131T163413Z
UID:5373-1708862400-1708869600@www.hty.fi
SUMMARY:Teemakävely urheilupuistossa Pullerin alueella
DESCRIPTION:Vuoden ensimmäisen teemakävelyn kohteena 25.2.2024 on Hämeenlinnan Urheilupuisto\, ja siellä liikuntaan ja sen kehittämiseen tutustuminen. Asiantuntijana teemakävelyllä on liikuntasuunnittelija Panu Tavisalo Hämeenlinnan Liikuntahallit Oy:stä. Se on Hämeenlinnan kaupungin omistama osakeyhtiö\, joka toimii kaupungin liikuntapalvelujen tuottajaorganisaationa. \nHämeenlinnan Urheilupuisto sijaitsee Pullerin alueella. Alue koostuu suuresta nurmialueesta\, joka on kesäisin jaettu erikokoisiksi jalkapallokentiksi. Alueella on myös lämmitetty tekonurmikenttä\, hiekkatekonurmikenttä pesäpallolle sekä talvisin suuri yhtenäinen luistelualue ja koko alueen ympäri kiertävä 1\,2 km mittainen latu. \nUrheilupuiston alueella sijaitsevat myös Loimua Areena ja Säästöpankki-areena. Koonnumme sunnuntaina 25.2.2024 kello 12.00 Loimua Areenan pääsisäänkäynnin edessä osoitteessa Härkatie 17 B\, 13600 Hämeenlinna. \n
URL:https://www.hty.fi/event/teemakavely-pullerin-urheilupuistossa/
LOCATION:Parolantie 56\, Hämeenlinna\, 13130\, Suomi
CATEGORIES:Teematapahtuma
ATTACH;FMTTYPE=image/jpeg:https://www.hty.fi/wp-content/uploads/2024/01/Pullerin-urheilupuisto-26012024-8-kuva-Martti-Oksanen.jpg
END:VEVENT
END:VCALENDAR