BEGIN:VCALENDAR
VERSION:2.0
PRODID:-//Hämeenlinnan Työväenyhdistys ry - HTY - ECPv4.6.3//NONSGML v1.0//EN
CALSCALE:GREGORIAN
METHOD:PUBLISH
X-WR-CALNAME:Hämeenlinnan Työväenyhdistys ry - HTY
X-ORIGINAL-URL:https://www.hty.fi
X-WR-CALDESC:Events for Hämeenlinnan Työväenyhdistys ry - HTY
BEGIN:VEVENT
DTSTART;TZID=Europe/Helsinki:20190317T130000
DTEND;TZID=Europe/Helsinki:20190317T150000
DTSTAMP:20260419T215538
CREATED:20190130T094657Z
LAST-MODIFIED:20190309T171333Z
UID:1940-1552827600-1552834800@www.hty.fi
SUMMARY:Teemakävely: Miten digitaalisuus vaikuttaa kirjastoihin?
DESCRIPTION:Hämeenlinna uudistaa kirjastopalvelujaan ja kirjastojaan. Jukolan kirjasto siirrettiin Nummikeskukseen\, jossa sijaitsee myös Nummen yhtenäiskoulu. Oliko kirjaston siirto oikea ratkaisu? \nNummen kirjastossa voi lainata kirjoja\, e-kirjoja\, äänikirjoja\, lehtiä\, elokuvia ja musiikkia; lukea painettuja sanoma- ja aikakauslehtiä ja e-lehtiä sekä käyttää internet-palveluja. Digitaalisuus mahdollistaa myös kirjaston käytön omatoimikirjastona. Entä tulevaisuudessa: miten vielä digitaalisuus vaikuttaa kirjastoihin? \nKirjastot ovat HTY:n maaliskuun kävelyn teemana. Kokoonnumme sunnuntaina 17.3.2019 kello 13 Nummikeskukseen\, jossa katsomme kirjaston sisätilat ja sitten keskustelemme kävellessä Nummikeskuksen lähiympäristössä. \n  \n
URL:https://www.hty.fi/event/teemakavely-2/
LOCATION:Kylätie 24\, Hämeenlinna\, 13500\, Suomi
CATEGORIES:Teematapahtuma
ATTACH;FMTTYPE=image/jpeg:https://www.hty.fi/wp-content/uploads/2019/01/Kirjasto-ja-pyörätuoliasiakas.jpg
END:VEVENT
END:VCALENDAR