BEGIN:VCALENDAR
VERSION:2.0
PRODID:-//Hämeenlinnan Työväenyhdistys ry - HTY - ECPv4.6.3//NONSGML v1.0//EN
CALSCALE:GREGORIAN
METHOD:PUBLISH
X-WR-CALNAME:Hämeenlinnan Työväenyhdistys ry - HTY
X-ORIGINAL-URL:https://www.hty.fi
X-WR-CALDESC:Events for Hämeenlinnan Työväenyhdistys ry - HTY
BEGIN:VEVENT
DTSTART;TZID=Europe/Helsinki:20180315T170000
DTEND;TZID=Europe/Helsinki:20180315T230000
DTSTAMP:20260419T233006
CREATED:20180113T171547Z
LAST-MODIFIED:20180113T174631Z
UID:1179-1521133200-1521154800@www.hty.fi
SUMMARY:Teatteriretki Tampereen Työväen Teatteriin: Tytöt 1918
DESCRIPTION:Musikaali nuoruudesta\, raivosta ja rakkaudesta\n\n\n\n\n\n\n\n\n\n\n\n\n\n\n\nKevättalvella 1918 Tampereella perustettiin aseellinen naiskaarti\, jonka muodostivat pääosin hyvin nuoret tytöt\, lähes lapset. Tämä musikaali kertoo heistä. Tytöt 1918 on tarina nuorten tamperelaistyttöjen intohimosta ja taistelutahdosta\, viattomuudesta ja julmuudesta\, rakkaudesta ja vihasta\, ilosta\, naurusta\, häpeästä ja osattomuudesta. \nJärjestämme teatterimatkan 15.3. Tampereen Työväen Teatterin musikaaliin Tytöt 1918. \n\n\n\n\n\n\n\n\n\n\n\n\n\n\n\n\nLähtö Wetterhoffin tilausliikennepysäkiltä (Wetterhoffinkatu 4\, Hämeenlinna) klo 17.00.\nHTY:n jäsen voi varata yhden 50 €:n jäsenhintaisen ja yhden 60 €:n hintaisen avec-lipun.\nHinta sisältää teatterilipun ja bussimatkan.\nLippuja on yhteensä 40 ja paikat täytetään ilmoittautumisjärjestyksessä. Lippujen viimeinen varauspäivä on 31.1.2018.\nVaraukset Kirsti Suorannalta\, kirsti.suoranta(at)gmail.com.\n\nTervetuloa teatteriretkelle! \n
URL:https://www.hty.fi/event/teatteriretki-tampereen-tyovaen-teatteriin-tytot-1918/
LOCATION:Wetterhoffinkatu 4\, Hämeenlinna\, Suomi
CATEGORIES:Retki,Tapahtuma
ATTACH;FMTTYPE=image/jpeg:https://www.hty.fi/wp-content/uploads/2017/01/tytöt_1918.jpg
END:VEVENT
END:VCALENDAR