BEGIN:VCALENDAR
VERSION:2.0
PRODID:-//Hämeenlinnan Työväenyhdistys ry - HTY - ECPv4.6.3//NONSGML v1.0//EN
CALSCALE:GREGORIAN
METHOD:PUBLISH
X-WR-CALNAME:Hämeenlinnan Työväenyhdistys ry - HTY
X-ORIGINAL-URL:https://www.hty.fi
X-WR-CALDESC:Events for Hämeenlinnan Työväenyhdistys ry - HTY
BEGIN:VEVENT
DTSTART;TZID=Europe/Helsinki:20180830T183000
DTEND;TZID=Europe/Helsinki:20180830T210000
DTSTAMP:20260419T165700
CREATED:20180825T081750Z
LAST-MODIFIED:20180826T114116Z
UID:1505-1535653800-1535662800@www.hty.fi
SUMMARY:Suunnitteluseminaari
DESCRIPTION:\nJohtokunnan suunnitteluseminaarin aiheina ovat syksyn toiminnan suunnittelu\, tulevien vaalien suunnittelu sekä keskustelua tulevista henkilövalinnoista. \n\n
URL:https://www.hty.fi/event/suunnitteluseminaari/
LOCATION:Lautatarhankatu 9\, Hämeenlinna\, 13110\, Suomi
CATEGORIES:Johtokunta,Seminaari
ATTACH;FMTTYPE=image/jpeg:https://www.hty.fi/wp-content/uploads/2018/08/Kantolan-siirtolapuutarhan-yhteismaja.jpeg
END:VEVENT
END:VCALENDAR