BEGIN:VCALENDAR
VERSION:2.0
PRODID:-//Hämeenlinnan Työväenyhdistys ry - HTY - ECPv4.6.3//NONSGML v1.0//EN
CALSCALE:GREGORIAN
METHOD:PUBLISH
X-WR-CALNAME:Hämeenlinnan Työväenyhdistys ry - HTY
X-ORIGINAL-URL:https://www.hty.fi
X-WR-CALDESC:Events for Hämeenlinnan Työväenyhdistys ry - HTY
BEGIN:VEVENT
DTSTART;TZID=Europe/Helsinki:20240420T120000
DTEND;TZID=Europe/Helsinki:20240420T140000
DTSTAMP:20260419T183014
CREATED:20240418T143739Z
LAST-MODIFIED:20240420T074201Z
UID:5613-1713614400-1713621600@www.hty.fi
SUMMARY:Siivoustalkoot Ahveniston mäen punaisten haudalla - peruttu!
DESCRIPTION:\n\nVappu on tulossa ja perinteiseen tapaan käymme laskemassa kukat kaikille kaupungin alueella oleville punaisten haudoille. \n\nHTY päätti siistiä Ahveniston sairaalan läheisyydessä olevan hauta-alueen lauantaina 20.4. klo 12.00 alkaen.\nSääolosuhteista johtuen tälle päivälle suunnitellut talkoot on peruttu\, sillä lumi estää tekemästä aiottuja asioita. \n\n\n\nKeskussairaalan ja ortodoksikirkon vieressä sijaitsee punakaartilaisten joukkohauta. Alueella muistomerkkinä on korkea pystypaasi. Kiveen on kuvattu salamanisku pilvestä\, joka on kaatanut puunrungon\, vieressä versoo uusi taimi.Kivessä on teksti: Tälle alueelle on haudattu tuntematon määrä 1918 kansalaissodan uhreina sortuneita työläisiä. Muistoanne kunnioittaen Hämeenlinnan työväenjärjestöt.  \nHauta-alue on leveydeltään noin 40 metriä ja pituudeltaan noin 30 metriä. Sitä ympäröi kivitolpin tuettu kettinkiaitaus. \n\n\n\n
URL:https://www.hty.fi/event/siivoustalkoot-ahveniston-maen-punaisten-haudalla/
CATEGORIES:Teematapahtuma
ATTACH;FMTTYPE=image/jpeg:https://www.hty.fi/wp-content/uploads/2024/04/Punaisten-hautamuistomerkki-Ahvenistolla.jpg
END:VEVENT
END:VCALENDAR