BEGIN:VCALENDAR
VERSION:2.0
PRODID:-//Hämeenlinnan Työväenyhdistys ry - HTY - ECPv4.6.3//NONSGML v1.0//EN
CALSCALE:GREGORIAN
METHOD:PUBLISH
X-WR-CALNAME:Hämeenlinnan Työväenyhdistys ry - HTY
X-ORIGINAL-URL:https://www.hty.fi
X-WR-CALDESC:Events for Hämeenlinnan Työväenyhdistys ry - HTY
BEGIN:VEVENT
DTSTART;TZID=Europe/Helsinki:20240325T130000
DTEND;TZID=Europe/Helsinki:20240325T150000
DTSTAMP:20260419T170721
CREATED:20240214T141058Z
LAST-MODIFIED:20240214T141331Z
UID:5427-1711371600-1711378800@www.hty.fi
SUMMARY:Seniorikahvilassa oppia kasvien hoidosta
DESCRIPTION:Seniorikahvilassa 25.3.2024 hortonomi Paula Torenius kertoo huone- ja parvekekasveista ja niiden hoidosta sekä alan uusimmista trendeistä. \n
URL:https://www.hty.fi/event/seniorikahvilassa-oppia-kasvien-hoidosta/
LOCATION:Raatihuoneenkatu 20\, Hämeenlinna
CATEGORIES:Tapahtuma
ATTACH;FMTTYPE=image/jpeg:https://www.hty.fi/wp-content/uploads/2024/02/Orkidea-26092021-2.jpg
END:VEVENT
END:VCALENDAR