BEGIN:VCALENDAR
VERSION:2.0
PRODID:-//Hämeenlinnan Työväenyhdistys ry - HTY - ECPv4.6.3//NONSGML v1.0//EN
CALSCALE:GREGORIAN
METHOD:PUBLISH
X-WR-CALNAME:Hämeenlinnan Työväenyhdistys ry - HTY
X-ORIGINAL-URL:https://www.hty.fi
X-WR-CALDESC:Events for Hämeenlinnan Työväenyhdistys ry - HTY
BEGIN:VEVENT
DTSTART;TZID=Europe/Helsinki:20210927T130000
DTEND;TZID=Europe/Helsinki:20210927T160000
DTSTAMP:20260421T081706
CREATED:20210919T140101Z
LAST-MODIFIED:20210922T181529Z
UID:3381-1632747600-1632758400@www.hty.fi
SUMMARY:Seniorikahvila
DESCRIPTION:\n\n\nSeniorikahvila aukeaa Reskalla\n\nKahdesti kuussa auki oleva seniorikahvila aukeaa Reskalla maanantaina 27.9. klo 13-16. Kahvila on auki joka kuukauden toisena ja neljäntenä maanantaina. Tila on katutasossa (Raatihuoneenkatu 20) ja sinne pääsee myös rollaattorilla ja pyörätuolilla.\n\nAvajaisissa kansanedustaja Tarja Filatov keskusteluttaa yhteisön merkityksestä ja yksinäisyyden ehkäisystä.\n\nKahvilan puuhaihminen Kirsti Suoranta kertoo\, että yhteiselle matalan kynnyksen kohtaamispaikalle on tarvetta. Syksyn suunnitelmissa on myös tuolijumppaa\, yhteislaulua ja muuta mukavaa.\n\nKahvilan tarkoitus on taklata yksinäisyyttä ja tukea yhteisöllisyyttä.\nKorona on eristänyt ikäihmisiä kotiin ja harvoihin sosiaalisiin kontakteihin. Kaikki eivät ole tottuneet tai osaa olla kontaktissa somessa tai netin välityksellä\, joten kasvokkaista kohtaamista tarvitaan.\n\nHämeenlinnan Työväenyhdistys haluaa osaltaan olla mahdollistamassa ikäihmisten kohtaamista. Seniorikahvilaan ei ole ikärajoja\, mutta ohjelmaa rakennetaan ikäihmisten toiveiden mukaan.\n\nSeniorikahvilan on aina aluksi alustajan tai toiminnan vetäjän johdolla tunti yhteistä tekemistä ja sen jälkeen vapaata yhdessäoloa. Alustajia pyydetään osallistujien ehdoilla ja toiveiden mukaan. Kahvilaan voi poiketa lyhyesti kahville ja tapaamaan ihmisiä tai siellä voi viihtyä koko aukioloajan.\n\nKahvilaa pitää Hämeenlinnan työväenyhdistys\, mutta tilaisuudet eivät ole puoluepoliittisia.\n\nKahvimaksu on vapaaehtoinen.\n\n\n  \n
URL:https://www.hty.fi/event/seniorikahvila/
LOCATION:Raatihuoneenkatu 20\, Hämeenlinna
CATEGORIES:Teematapahtuma
ATTACH;FMTTYPE=image/jpeg:https://www.hty.fi/wp-content/uploads/2021/09/Kuvituskuva-teevettä-mukiin.jpg
END:VEVENT
END:VCALENDAR