BEGIN:VCALENDAR
VERSION:2.0
PRODID:-//Hämeenlinnan Työväenyhdistys ry - HTY - ECPv4.6.3//NONSGML v1.0//EN
CALSCALE:GREGORIAN
METHOD:PUBLISH
X-WR-CALNAME:Hämeenlinnan Työväenyhdistys ry - HTY
X-ORIGINAL-URL:https://www.hty.fi
X-WR-CALDESC:Events for Hämeenlinnan Työväenyhdistys ry - HTY
BEGIN:VEVENT
DTSTART;TZID=Europe/Helsinki:20240610T130000
DTEND;TZID=Europe/Helsinki:20240610T150000
DTSTAMP:20260421T125306
CREATED:20240214T143724Z
LAST-MODIFIED:20240528T190320Z
UID:5443-1718024400-1718031600@www.hty.fi
SUMMARY:Seniorikahvila kokoontuu Aulangon ulkoilumajan kodalla
DESCRIPTION:Maanantaina 10.6. Seniorikahvila kokoontuu Aulangon ulkoilumajan kodalla. Jos sää-/maastopalotilanne sallii\, niin nautimme grillattua makkaraa\, kahvit ja pullat. Sateen sattuessa siirrämme tilaisuuden toimitilaamme Reskalle Raatihuoneenkatu 20:een. \nViheraluesuunnittelija Susanna Lappalainen Hämeenlinnan kaupungilta pitää Seniorikahvilassa pienen alustuksen Hämeenlinnan puistoista ja Kansallisesta kaupunkipuistosta. \nAulangon ulkoilumajalle ajaa Pekolan Liikenne Oy:n bussi linjalla 2U seuraavan aikataulun mukaisesti: Visamäki 11.54 – Linja-autoasema 12.05 – Rautatieasema 12.08 – Aulanko Scandic 12.21 – Aulangon ulkoilumaja 12.24. Paluuvuoroja lähtee mm. klo 13.25 ja 14.25. \n
URL:https://www.hty.fi/event/seniorikahvila-retkeilee-aulangolla/
LOCATION:Linnanen 77\, Hämeenlinna\, Suomi
CATEGORIES:Retki,Tapahtuma
ATTACH;FMTTYPE=image/jpeg:https://www.hty.fi/wp-content/uploads/2024/02/Kansallinen-kaupunkipuisto-Hämeenlinna.jpg
END:VEVENT
END:VCALENDAR