BEGIN:VCALENDAR
VERSION:2.0
PRODID:-//Hämeenlinnan Työväenyhdistys ry - HTY - ECPv4.6.3//NONSGML v1.0//EN
CALSCALE:GREGORIAN
METHOD:PUBLISH
X-WR-CALNAME:Hämeenlinnan Työväenyhdistys ry - HTY
X-ORIGINAL-URL:https://www.hty.fi
X-WR-CALDESC:Events for Hämeenlinnan Työväenyhdistys ry - HTY
BEGIN:VEVENT
DTSTART;TZID=Europe/Helsinki:20250609T130000
DTEND;TZID=Europe/Helsinki:20250609T150000
DTSTAMP:20260422T105442
CREATED:20250325T143114Z
LAST-MODIFIED:20250601T180041Z
UID:6281-1749474000-1749481200@www.hty.fi
SUMMARY:Seniorikahvila Kantolanniemessä 9.6.2025
DESCRIPTION:HTY:n kevätkauden viimeinen Seniorikahvila järjestetään Kantolanniemen siirtolapuutarhayhdistyksen yhteismajalla. Perille ei pääse bussilla\, joten suosittelemme kimppapyytejä. Tervetuloa kesäiseen puutarhaan! \n
URL:https://www.hty.fi/event/seniorikahvila-41/
LOCATION:Lautatarhankatu 9\, Hämeenlinna\, 13110\, Suomi
CATEGORIES:Teematapahtuma
ATTACH;FMTTYPE=image/jpeg:https://www.hty.fi/wp-content/uploads/2017/01/IMG_1992.jpg
END:VEVENT
END:VCALENDAR