BEGIN:VCALENDAR
VERSION:2.0
PRODID:-//Hämeenlinnan Työväenyhdistys ry - HTY - ECPv4.6.3//NONSGML v1.0//EN
CALSCALE:GREGORIAN
METHOD:PUBLISH
X-WR-CALNAME:Hämeenlinnan Työväenyhdistys ry - HTY
X-ORIGINAL-URL:https://www.hty.fi
X-WR-CALDESC:Events for Hämeenlinnan Työväenyhdistys ry - HTY
BEGIN:VEVENT
DTSTART;TZID=Europe/Helsinki:20250526T130000
DTEND;TZID=Europe/Helsinki:20250526T150000
DTSTAMP:20260422T094834
CREATED:20250325T142934Z
LAST-MODIFIED:20250518T175142Z
UID:6279-1748264400-1748271600@www.hty.fi
SUMMARY:Seniorikahvilassa teemana Ikäihmisten Ensilinja
DESCRIPTION:Eija Laakso Oma Hämeestä tulee kertomaan ikäihmisten palveluista ja erityisesti Ikäihmisten Ensilinjasta\, josta saa neuvontaa\, ohjausta ja palveluiden tarpeen arviointia. \nTietoa saa muun muassa seuraavista asioista: \n\nikäihmisten hyvinvoinnin edistäminen\nvarhaisen tuen palvelut\, esimerkiksi asiakkaan ohjaaminen kolmannen sektorin (mm. yhdistykset) toimintaan mukaan\nkotiin saatavat tukipalvelut\nkotihoito\nasumisen palvelut\nomaishoito\n\nPalvelu on avoinna maanantaista perjantaihin kello 9–15 puhelinnumerossa 03 629 6620. \n
URL:https://www.hty.fi/event/seniorikahvila-40/
LOCATION:Raatihuoneenkatu 20\, Hämeenlinna
CATEGORIES:Teematapahtuma
ATTACH;FMTTYPE=image/jpeg:https://www.hty.fi/wp-content/uploads/2025/03/ensilinja_logo.jpg
END:VEVENT
END:VCALENDAR