BEGIN:VCALENDAR
VERSION:2.0
PRODID:-//Hämeenlinnan Työväenyhdistys ry - HTY - ECPv4.6.3//NONSGML v1.0//EN
CALSCALE:GREGORIAN
METHOD:PUBLISH
X-WR-CALNAME:Hämeenlinnan Työväenyhdistys ry - HTY
X-ORIGINAL-URL:https://www.hty.fi
X-WR-CALDESC:Events for Hämeenlinnan Työväenyhdistys ry - HTY
BEGIN:VEVENT
DTSTART;TZID=Europe/Helsinki:20250428T130000
DTEND;TZID=Europe/Helsinki:20250428T150000
DTSTAMP:20260422T150035
CREATED:20250325T142559Z
LAST-MODIFIED:20250409T134926Z
UID:6274-1745845200-1745852400@www.hty.fi
SUMMARY:Seniorikahvila
DESCRIPTION:Diakoniatyöntekijä Jenni Kaarenoja Hämeenlinna-Vanajan seurakunnasta vierailee HTY:n seriorikahvilassa. Hän kertoo seurakunnan tulevista kesätapahtumista\, jotka on suunnattu ikäihmisille. \n
URL:https://www.hty.fi/event/seniorikahvila-38/
LOCATION:Raatihuoneenkatu 20\, Hämeenlinna
CATEGORIES:Teematapahtuma
ATTACH;FMTTYPE=image/jpeg:https://www.hty.fi/wp-content/uploads/2025/03/Hämeenlinnan-Vanajan-srk-logo.jpg
END:VEVENT
END:VCALENDAR