BEGIN:VCALENDAR
VERSION:2.0
PRODID:-//Hämeenlinnan Työväenyhdistys ry - HTY - ECPv4.6.3//NONSGML v1.0//EN
CALSCALE:GREGORIAN
METHOD:PUBLISH
X-WR-CALNAME:Hämeenlinnan Työväenyhdistys ry - HTY
X-ORIGINAL-URL:https://www.hty.fi
X-WR-CALDESC:Events for Hämeenlinnan Työväenyhdistys ry - HTY
BEGIN:VEVENT
DTSTART;TZID=Europe/Helsinki:20240422T130000
DTEND;TZID=Europe/Helsinki:20240422T150000
DTSTAMP:20260419T192411
CREATED:20240214T142207Z
LAST-MODIFIED:20240414T175628Z
UID:5433-1713790800-1713798000@www.hty.fi
SUMMARY:Seniorikahvilassa teemana sydän
DESCRIPTION:Seniorikahvilaan 22.4.2024 saamme keskustelun alustajaksi Anja Vallan Hämeenlinnan Seudun Sydänyhdistyksestä. \n
URL:https://www.hty.fi/event/seniorikahvila-27/
LOCATION:Raatihuoneenkatu 20\, Hämeenlinna
CATEGORIES:Tapahtuma
ATTACH;FMTTYPE=image/jpeg:https://www.hty.fi/wp-content/uploads/2024/02/Sydänliiton-logo.jpg
END:VEVENT
END:VCALENDAR