BEGIN:VCALENDAR
VERSION:2.0
PRODID:-//Hämeenlinnan Työväenyhdistys ry - HTY - ECPv4.6.3//NONSGML v1.0//EN
CALSCALE:GREGORIAN
METHOD:PUBLISH
X-WR-CALNAME:Hämeenlinnan Työväenyhdistys ry - HTY
X-ORIGINAL-URL:https://www.hty.fi
X-WR-CALDESC:Events for Hämeenlinnan Työväenyhdistys ry - HTY
BEGIN:VEVENT
DTSTART;TZID=Europe/Helsinki:20240311T130000
DTEND;TZID=Europe/Helsinki:20240311T150000
DTSTAMP:20260419T165827
CREATED:20240123T123943Z
LAST-MODIFIED:20240227T195015Z
UID:5391-1710162000-1710169200@www.hty.fi
SUMMARY:Seniorikahvila
DESCRIPTION:Seniorikahvilassa 11.3.2024 on Oma Hämeen edustajana sosiaaliohjaaja Janika Hyvärinen kertomassa huoli-ilmoituksesta sekä ikäihmisten palveluista. \nVoit tehdä huoli-ilmoituksen aikuisesta ihmisestä\, jos olet huolissasi hänen hyvinvoinnista\, terveydestä tai turvallisuudesta. Huolta voi aiheuttaa esimerkiksi vanhuksen kotona pärjääminen tai yksin asuvan aikuisen elämänhallinnan ongelmat. \nJos olet huolissasi lapsen hyvinvoinnista tai haluat kysyä neuvoa\, tee lapsesta lastensuojeluilmoitus. \n
URL:https://www.hty.fi/event/seniorikahvila-25/
LOCATION:Raatihuoneenkatu 20\, Hämeenlinna
CATEGORIES:Tapahtuma
ATTACH;FMTTYPE=image/jpeg:https://www.hty.fi/wp-content/uploads/2024/01/Huoli-ilmoitus.jpg
END:VEVENT
END:VCALENDAR