BEGIN:VCALENDAR
VERSION:2.0
PRODID:-//Hämeenlinnan Työväenyhdistys ry - HTY - ECPv4.6.3//NONSGML v1.0//EN
CALSCALE:GREGORIAN
METHOD:PUBLISH
X-WR-CALNAME:Hämeenlinnan Työväenyhdistys ry - HTY
X-ORIGINAL-URL:https://www.hty.fi
X-WR-CALDESC:Events for Hämeenlinnan Työväenyhdistys ry - HTY
BEGIN:VEVENT
DTSTART;TZID=Europe/Helsinki:20231113T130000
DTEND;TZID=Europe/Helsinki:20231113T150000
DTSTAMP:20260421T081822
CREATED:20230804T092049Z
LAST-MODIFIED:20231012T152648Z
UID:5020-1699880400-1699887600@www.hty.fi
SUMMARY:Seniorikahvilassa kuullaan Kulttuurikaaresta
DESCRIPTION:Vieraanamme on Kulttuurikaaren puheenjohtaja Marja Räikkönen. Kulttuurikaari on vuonna 1998 perustettu yhdistys. Sen tavoitteena on ihmisten iloinen yhdessäolo ja kulttuuristen kokemusten monipuolinen jakaminen. Kulttuurikaaren ydintoimintoja ovat musiikki eri muodoissa\, näytelmäpiiri\, senioritanssi- ja kirjoittajaryhmät sekä liikunta. \n
URL:https://www.hty.fi/event/seniorikahvila-20/
LOCATION:Raatihuoneenkatu 20\, Hämeenlinna
CATEGORIES:Tapahtuma
ATTACH;FMTTYPE=image/jpeg:https://www.hty.fi/wp-content/uploads/2023/08/Kulttuurikaari-ry.jpg
END:VEVENT
END:VCALENDAR