BEGIN:VCALENDAR
VERSION:2.0
PRODID:-//Hämeenlinnan Työväenyhdistys ry - HTY - ECPv4.6.3//NONSGML v1.0//EN
CALSCALE:GREGORIAN
METHOD:PUBLISH
X-WR-CALNAME:Hämeenlinnan Työväenyhdistys ry - HTY
X-ORIGINAL-URL:https://www.hty.fi
X-WR-CALDESC:Events for Hämeenlinnan Työväenyhdistys ry - HTY
BEGIN:VEVENT
DTSTART;TZID=Europe/Helsinki:20230508T130000
DTEND;TZID=Europe/Helsinki:20230508T150000
DTSTAMP:20260421T105434
CREATED:20230222T101153Z
LAST-MODIFIED:20230314T191321Z
UID:4584-1683550800-1683558000@www.hty.fi
SUMMARY:Seniorikahvila
DESCRIPTION:Toimialajohtaja Satu Ala-Kokko kertoo Kanta-Hämeen hyvinvointialueen kuulumisia ikäihmisten näkökulmasta. \n
URL:https://www.hty.fi/event/seniorikahvila-14/
LOCATION:Raatihuoneenkatu 20\, Hämeenlinna
CATEGORIES:Tapahtuma
ATTACH;FMTTYPE=image/jpeg:https://www.hty.fi/wp-content/uploads/2022/02/Kuvituskuva-seniorien-parisuhde.jpg
END:VEVENT
END:VCALENDAR