BEGIN:VCALENDAR
VERSION:2.0
PRODID:-//Hämeenlinnan Työväenyhdistys ry - HTY - ECPv4.6.3//NONSGML v1.0//EN
CALSCALE:GREGORIAN
METHOD:PUBLISH
X-WR-CALNAME:Hämeenlinnan Työväenyhdistys ry - HTY
X-ORIGINAL-URL:https://www.hty.fi
X-WR-CALDESC:Events for Hämeenlinnan Työväenyhdistys ry - HTY
BEGIN:VEVENT
DTSTART;TZID=Europe/Helsinki:20180119T173000
DTEND;TZID=Europe/Helsinki:20180119T190000
DTSTAMP:20260419T205536
CREATED:20180113T163104Z
LAST-MODIFIED:20180113T163104Z
UID:1163-1516383000-1516388400@www.hty.fi
SUMMARY:Presidentin vallan ja roolin muutokset
DESCRIPTION:Näin presidentin vaalien alla Johannes Koskinen kertoo presidentin vallan ja roolin muutoksista. \nTervetuloa kuulemaan ja keskustelemaan! \n
URL:https://www.hty.fi/event/presidentin-vallan-ja-roolin-muutokset/
LOCATION:Raatihuoneenkatu 20\, Hämeenlinna
CATEGORIES:Tapahtuma,Vaalit
END:VEVENT
END:VCALENDAR