BEGIN:VCALENDAR
VERSION:2.0
PRODID:-//Hämeenlinnan Työväenyhdistys ry - HTY - ECPv4.6.3//NONSGML v1.0//EN
CALSCALE:GREGORIAN
METHOD:PUBLISH
X-WR-CALNAME:Hämeenlinnan Työväenyhdistys ry - HTY
X-ORIGINAL-URL:https://www.hty.fi
X-WR-CALDESC:Events for Hämeenlinnan Työväenyhdistys ry - HTY
BEGIN:VEVENT
DTSTART;TZID=Europe/Helsinki:20240317T110000
DTEND;TZID=Europe/Helsinki:20240317T130000
DTSTAMP:20260419T153937
CREATED:20240313T182455Z
LAST-MODIFIED:20240313T182836Z
UID:5522-1710673200-1710680400@www.hty.fi
SUMMARY:Perhekahvila
DESCRIPTION:
URL:https://www.hty.fi/event/perhekahvila/
LOCATION:Raatihuoneenkatu 20\, Hämeenlinna
CATEGORIES:Teematapahtuma
ATTACH;FMTTYPE=image/jpeg:https://www.hty.fi/wp-content/uploads/2024/03/Perhekahvila-17032024.jpg
END:VEVENT
END:VCALENDAR