BEGIN:VCALENDAR
VERSION:2.0
PRODID:-//Hämeenlinnan Työväenyhdistys ry - HTY - ECPv4.6.3//NONSGML v1.0//EN
CALSCALE:GREGORIAN
METHOD:PUBLISH
X-WR-CALNAME:Hämeenlinnan Työväenyhdistys ry - HTY
X-ORIGINAL-URL:https://www.hty.fi
X-WR-CALDESC:Events for Hämeenlinnan Työväenyhdistys ry - HTY
BEGIN:VEVENT
DTSTART;TZID=Europe/Helsinki:20181128T100000
DTEND;TZID=Europe/Helsinki:20181128T140000
DTSTAMP:20260419T215651
CREATED:20180509T183318Z
LAST-MODIFIED:20180830T184917Z
UID:1391-1543399200-1543413600@www.hty.fi
SUMMARY:Kommervenkkikeskiviikko: Lastentapahtuma Elenia-areenalla
DESCRIPTION:Kutsutapahtuma kaupungin esikoululaisille ja 1-2-luokkalaisille. \n
URL:https://www.hty.fi/event/lastentapahtuma-elenia-areenalla/
LOCATION:Härkätie 17 B\, Hämeenlinna\, Suomi
CATEGORIES:Tapahtuma
END:VEVENT
END:VCALENDAR