BEGIN:VCALENDAR
VERSION:2.0
PRODID:-//Hämeenlinnan Työväenyhdistys ry - HTY - ECPv4.6.3//NONSGML v1.0//EN
CALSCALE:GREGORIAN
METHOD:PUBLISH
X-WR-CALNAME:Hämeenlinnan Työväenyhdistys ry - HTY
X-ORIGINAL-URL:https://www.hty.fi
X-WR-CALDESC:Events for Hämeenlinnan Työväenyhdistys ry - HTY
BEGIN:VEVENT
DTSTART;TZID=Europe/Helsinki:20191207T120000
DTEND;TZID=Europe/Helsinki:20191207T150000
DTSTAMP:20260419T165816
CREATED:20191203T124751Z
LAST-MODIFIED:20191203T125103Z
UID:2387-1575720000-1575730800@www.hty.fi
SUMMARY:Lapsiparkki lauantaina 7.12.2019
DESCRIPTION:Ostosten tekoa!  Joulusiivousta!\nSillä aikaa ilmainen lapsiparkki yli 3-vuotiaille HTY:n toimitilassa Reskalla os. Raatihuoneenkatu 20\,\nlauantaina 7.12. ja sunnuntaina 8.12.\, molempina päivinä klo 12-15.\nHoitajina kasvatusalan ammattilaisia.\n\nTervetuloa!\n
URL:https://www.hty.fi/event/lapsiparkki-lauantaina/
LOCATION:Raatihuoneenkatu 20\, Hämeenlinna
CATEGORIES:Tapahtuma,Teematapahtuma
ATTACH;FMTTYPE=image/jpeg:https://www.hty.fi/wp-content/uploads/2017/01/Lapset-piirtelevät-2.jpg
END:VEVENT
END:VCALENDAR