BEGIN:VCALENDAR
VERSION:2.0
PRODID:-//Hämeenlinnan Työväenyhdistys ry - HTY - ECPv4.6.3//NONSGML v1.0//EN
CALSCALE:GREGORIAN
METHOD:PUBLISH
X-WR-CALNAME:Hämeenlinnan Työväenyhdistys ry - HTY
X-ORIGINAL-URL:https://www.hty.fi
X-WR-CALDESC:Events for Hämeenlinnan Työväenyhdistys ry - HTY
BEGIN:VEVENT
DTSTART;TZID=Europe/Helsinki:20181125T090000
DTEND;TZID=Europe/Helsinki:20181125T093000
DTSTAMP:20260421T120338
CREATED:20181102T102338Z
LAST-MODIFIED:20181102T103423Z
UID:1662-1543136400-1543138200@www.hty.fi
SUMMARY:Kunniakäynti Punaisten muistomerkillä
DESCRIPTION:Osana HTY:n 13o-vuotisjuhlaviikkoa järjestetään kunniakäynti Punaisten muistomerkille Ahveniston hautausmaalla. \n
URL:https://www.hty.fi/event/kunniakaynti-punaisten-muistomerkilla/
LOCATION:Ahvenistontie 18\, Hämeenlinna\, 13500\, Suomi
CATEGORIES:Tapahtuma
ATTACH;FMTTYPE=image/jpeg:https://www.hty.fi/wp-content/uploads/2018/11/TA10420.jpg
END:VEVENT
END:VCALENDAR