BEGIN:VCALENDAR
VERSION:2.0
PRODID:-//Hämeenlinnan Työväenyhdistys ry - HTY - ECPv4.6.3//NONSGML v1.0//EN
CALSCALE:GREGORIAN
METHOD:PUBLISH
X-WR-CALNAME:Hämeenlinnan Työväenyhdistys ry - HTY
X-ORIGINAL-URL:https://www.hty.fi
X-WR-CALDESC:Events for Hämeenlinnan Työväenyhdistys ry - HTY
BEGIN:VEVENT
DTSTART;TZID=Europe/Helsinki:20170118T170000
DTEND;TZID=Europe/Helsinki:20170118T200000
DTSTAMP:20260423T084532
CREATED:20170121T081824Z
LAST-MODIFIED:20170121T082420Z
UID:177-1484758800-1484769600@www.hty.fi
SUMMARY:Koulutusta kuntavaaliehdokkaille
DESCRIPTION:Koulutusta kuntavaaliehdokkaille: esiintymiskoulutusta\, osa 2 \nkouluttajana Risto Autio \n
URL:https://www.hty.fi/event/koulutusta-kuntavaaliehdokkaille/
LOCATION:Linnankatu 3 B\, Hämeenlinna: 
CATEGORIES:Koulutus,Vaalit
END:VEVENT
END:VCALENDAR