BEGIN:VCALENDAR
VERSION:2.0
PRODID:-//Hämeenlinnan Työväenyhdistys ry - HTY - ECPv4.6.3//NONSGML v1.0//EN
CALSCALE:GREGORIAN
METHOD:PUBLISH
X-WR-CALNAME:Hämeenlinnan Työväenyhdistys ry - HTY
X-ORIGINAL-URL:https://www.hty.fi
X-WR-CALDESC:Events for Hämeenlinnan Työväenyhdistys ry - HTY
BEGIN:VEVENT
DTSTART;TZID=Europe/Helsinki:20240509T113000
DTEND;TZID=Europe/Helsinki:20240509T143000
DTSTAMP:20260419T130313
CREATED:20240220T192040Z
LAST-MODIFIED:20240414T181417Z
UID:5474-1715254200-1715265000@www.hty.fi
SUMMARY:Kevätretki Lasten Kesän leirikeskukseen
DESCRIPTION:Lasten Kesä ry:n leirikeskus sijaitsee Hauhon Eteläsissä Akkijärven rannalla. Se on HTY:n tämänvuotisen kevätretken kohteena helatorstaina 9.5.2024. Perillä tutustumme alueeseen ja sen toimintaan ja vietämme aikaa kodalla paistaen makkaraa ja kahvitellen. \nYhdistys maksaa kustannukset. Leirikeskukseen mennään yhteiskuljetuksella. Lähtö on Wetterhoffilta klo 11.30. Hauholla ollaan klo 12-14. Sitovat ilmoittautumiset 3.5. mennessä hml.hty(at)outlook.com tai Kirsti Suorannalle tekstiviestillä puhelinnumeroon 041 549 4516. \n
URL:https://www.hty.fi/event/kevatretki-lasten-kesan-leirikeskukseen/
LOCATION:Akkijärventie 221\, 14770 Eteläinen\, Hämeenlinna\, Suomi
CATEGORIES:Retki
ATTACH;FMTTYPE=image/jpeg:https://www.hty.fi/wp-content/uploads/2024/02/Lasten-kesä-ry.jpg
END:VEVENT
END:VCALENDAR