BEGIN:VCALENDAR
VERSION:2.0
PRODID:-//Hämeenlinnan Työväenyhdistys ry - HTY - ECPv4.6.3//NONSGML v1.0//EN
CALSCALE:GREGORIAN
METHOD:PUBLISH
X-WR-CALNAME:Hämeenlinnan Työväenyhdistys ry - HTY
X-ORIGINAL-URL:https://www.hty.fi
X-WR-CALDESC:Events for Hämeenlinnan Työväenyhdistys ry - HTY
BEGIN:VEVENT
DTSTART;TZID=Europe/Helsinki:20260702T180000
DTEND;TZID=Europe/Helsinki:20260702T203000
DTSTAMP:20260421T092129
CREATED:20260418T133425Z
LAST-MODIFIED:20260418T133957Z
UID:7094-1783015200-1783024200@www.hty.fi
SUMMARY:Kesäteatteri
DESCRIPTION:Lähde kesäteatteriin 2.7.2026 \nHämeenlinnan Työväenyhdistys on varannut 30 lippua Hämeenlinnan Uuden Kesäteatterin kesän 2026 esitykseen ”Sitä saa mitä tilaa” torstain 2.7.2026 klo 18 Kaupunginpuistossa. Esityksen hinta on 35€/jäsen (yksi lippu/jäsen)\, 42 €/ei-jäsen. \nTee lippuvaraukset sähköpostitse hml.hty(at)outlook.com tai tekstiviestillä p. 041-5494516. Ilmoita osallistujan/osallistujien nimet ja jäsentiedot. Paikat täytetään ilmoittautumisjärjestyksessä. Saat vastausviestinä vahvistustiedon sekä tarkemmat lunastustiedot. \nTervetuloa mukaan! \n
URL:https://www.hty.fi/event/kesateatteri/
CATEGORIES:Tapahtuma
ATTACH;FMTTYPE=image/jpeg:https://www.hty.fi/wp-content/uploads/2026/04/Sitä-saa-mitä-tilaa.jpg
END:VEVENT
END:VCALENDAR