BEGIN:VCALENDAR
VERSION:2.0
PRODID:-//Hämeenlinnan Työväenyhdistys ry - HTY - ECPv4.6.3//NONSGML v1.0//EN
CALSCALE:GREGORIAN
METHOD:PUBLISH
X-WR-CALNAME:Hämeenlinnan Työväenyhdistys ry - HTY
X-ORIGINAL-URL:https://www.hty.fi
X-WR-CALDESC:Events for Hämeenlinnan Työväenyhdistys ry - HTY
BEGIN:VEVENT
DTSTART;TZID=Europe/Helsinki:20191118T180000
DTEND;TZID=Europe/Helsinki:20191118T193000
DTSTAMP:20260419T155012
CREATED:20191107T095601Z
LAST-MODIFIED:20191107T102415Z
UID:2344-1574100000-1574105400@www.hty.fi
SUMMARY:Kahvihetki päättäjien kanssa
DESCRIPTION:Keskustelun aiheena on kaupungin sosiaali- ja terveyspalvelut. Illan aikana keskitytään ikäihmisten sekä perusterveydenhuollon palveluihin. Alustajina toimivat sosiaali- ja terveysjohtaja Jukka Lindberg sekä kansanedustajat Tarja Filatov ja Johannes Koskinen. \nTilaisuuteen kutsutaan jälleen  kaupungin kaikkien sos.dem.-yhdistysten jäsenet. Tervetuloa! \n  \n
URL:https://www.hty.fi/event/kahvihetki-paattajien-kanssa/
LOCATION:Raatihuoneenkatu 20\, Hämeenlinna
CATEGORIES:Teematapahtuma
ATTACH;FMTTYPE=image/jpeg:https://www.hty.fi/wp-content/uploads/2019/11/Lääkkeet.jpg
END:VEVENT
END:VCALENDAR