BEGIN:VCALENDAR
VERSION:2.0
PRODID:-//Hämeenlinnan Työväenyhdistys ry - HTY - ECPv4.6.3//NONSGML v1.0//EN
CALSCALE:GREGORIAN
METHOD:PUBLISH
X-WR-CALNAME:Hämeenlinnan Työväenyhdistys ry - HTY
X-ORIGINAL-URL:https://www.hty.fi
X-WR-CALDESC:Events for Hämeenlinnan Työväenyhdistys ry - HTY
BEGIN:VEVENT
DTSTART;TZID=Europe/Helsinki:20190911T170000
DTEND;TZID=Europe/Helsinki:20190911T190000
DTSTAMP:20260419T165904
CREATED:20190802T130224Z
LAST-MODIFIED:20190823T064504Z
UID:2198-1568221200-1568228400@www.hty.fi
SUMMARY:Johtokunnan kokous
DESCRIPTION:
URL:https://www.hty.fi/event/johtokunnnan-kokous/
LOCATION:Raatihuoneenkatu 20\, Hämeenlinna
CATEGORIES:Johtokunta,Kokous
END:VEVENT
END:VCALENDAR