BEGIN:VCALENDAR
VERSION:2.0
PRODID:-//Hämeenlinnan Työväenyhdistys ry - HTY - ECPv4.6.3//NONSGML v1.0//EN
CALSCALE:GREGORIAN
METHOD:PUBLISH
X-WR-CALNAME:Hämeenlinnan Työväenyhdistys ry - HTY
X-ORIGINAL-URL:https://www.hty.fi
X-WR-CALDESC:Events for Hämeenlinnan Työväenyhdistys ry - HTY
BEGIN:VEVENT
DTSTART;TZID=Europe/Helsinki:20191203T170000
DTEND;TZID=Europe/Helsinki:20191203T190000
DTSTAMP:20260419T142455
CREATED:20190802T130755Z
LAST-MODIFIED:20191203T125227Z
UID:2205-1575392400-1575399600@www.hty.fi
SUMMARY:Johtokunnan kokous
DESCRIPTION:
URL:https://www.hty.fi/event/johtokunnan-kokous-7/
LOCATION:Raatihuoneenkatu 20\, Hämeenlinna
CATEGORIES:Johtokunta,Kokous
END:VEVENT
END:VCALENDAR