BEGIN:VCALENDAR
VERSION:2.0
PRODID:-//Hämeenlinnan Työväenyhdistys ry - HTY - ECPv4.6.3//NONSGML v1.0//EN
CALSCALE:GREGORIAN
METHOD:PUBLISH
X-WR-CALNAME:Hämeenlinnan Työväenyhdistys ry - HTY
X-ORIGINAL-URL:https://www.hty.fi
X-WR-CALDESC:Events for Hämeenlinnan Työväenyhdistys ry - HTY
BEGIN:VEVENT
DTSTART;TZID=Europe/Helsinki:20250520T190000
DTEND;TZID=Europe/Helsinki:20250520T200000
DTSTAMP:20260422T082945
CREATED:20250516T182306Z
LAST-MODIFIED:20250516T182306Z
UID:6472-1747767600-1747771200@www.hty.fi
SUMMARY:Johtokunnan kokous
DESCRIPTION:HTY:n johtokunta pitää ylimääräisen kokouksen Teamsissä tiistaina 20.5.2025 kello 19.00. \n
URL:https://www.hty.fi/event/johtokunnan-kokous-64/
CATEGORIES:Johtokunta,Kokous
END:VEVENT
END:VCALENDAR