BEGIN:VCALENDAR
VERSION:2.0
PRODID:-//Hämeenlinnan Työväenyhdistys ry - HTY - ECPv4.6.3//NONSGML v1.0//EN
CALSCALE:GREGORIAN
METHOD:PUBLISH
X-WR-CALNAME:Hämeenlinnan Työväenyhdistys ry - HTY
X-ORIGINAL-URL:https://www.hty.fi
X-WR-CALDESC:Events for Hämeenlinnan Työväenyhdistys ry - HTY
BEGIN:VEVENT
DTSTART;TZID=Europe/Helsinki:20191106T190000
DTEND;TZID=Europe/Helsinki:20191106T203000
DTSTAMP:20260419T142328
CREATED:20190802T130614Z
LAST-MODIFIED:20191008T183759Z
UID:2203-1573066800-1573072200@www.hty.fi
SUMMARY:Johtokunnan kokous
DESCRIPTION:
URL:https://www.hty.fi/event/johtokunnan-kokous-6/
LOCATION:Raatihuoneenkatu 20\, Hämeenlinna
CATEGORIES:Johtokunta,Kokous
END:VEVENT
END:VCALENDAR