BEGIN:VCALENDAR
VERSION:2.0
PRODID:-//Hämeenlinnan Työväenyhdistys ry - HTY - ECPv4.6.3//NONSGML v1.0//EN
CALSCALE:GREGORIAN
METHOD:PUBLISH
X-WR-CALNAME:Hämeenlinnan Työväenyhdistys ry - HTY
X-ORIGINAL-URL:https://www.hty.fi
X-WR-CALDESC:Events for Hämeenlinnan Työväenyhdistys ry - HTY
BEGIN:VEVENT
DTSTART;TZID=Europe/Helsinki:20240417T180000
DTEND;TZID=Europe/Helsinki:20240417T200000
DTSTAMP:20260419T181748
CREATED:20240220T191245Z
LAST-MODIFIED:20240220T191245Z
UID:5470-1713376800-1713384000@www.hty.fi
SUMMARY:Johtokunnan kokous
DESCRIPTION:
URL:https://www.hty.fi/event/johtokunnan-kokous-51/
LOCATION:Raatihuoneenkatu 20\, Hämeenlinna
CATEGORIES:Johtokunta,Kokous
END:VEVENT
END:VCALENDAR