BEGIN:VCALENDAR
VERSION:2.0
PRODID:-//Hämeenlinnan Työväenyhdistys ry - HTY - ECPv4.6.3//NONSGML v1.0//EN
CALSCALE:GREGORIAN
METHOD:PUBLISH
X-WR-CALNAME:Hämeenlinnan Työväenyhdistys ry - HTY
X-ORIGINAL-URL:https://www.hty.fi
X-WR-CALDESC:Events for Hämeenlinnan Työväenyhdistys ry - HTY
BEGIN:VEVENT
DTSTART;TZID=Europe/Helsinki:20180911T183000
DTEND;TZID=Europe/Helsinki:20180911T210000
DTSTAMP:20260419T181657
CREATED:20180825T082050Z
LAST-MODIFIED:20180830T182939Z
UID:1510-1536690600-1536699600@www.hty.fi
SUMMARY:Johtokunnan kokous
DESCRIPTION:
URL:https://www.hty.fi/event/johtokunnan-kokous-2/
LOCATION:Raatihuoneenkatu 20\, Hämeenlinna
CATEGORIES:Johtokunta,Kokous
END:VEVENT
END:VCALENDAR