BEGIN:VCALENDAR
VERSION:2.0
PRODID:-//Hämeenlinnan Työväenyhdistys ry - HTY - ECPv4.6.3//NONSGML v1.0//EN
CALSCALE:GREGORIAN
METHOD:PUBLISH
X-WR-CALNAME:Hämeenlinnan Työväenyhdistys ry - HTY
X-ORIGINAL-URL:https://www.hty.fi
X-WR-CALDESC:Events for Hämeenlinnan Työväenyhdistys ry - HTY
BEGIN:VEVENT
DTSTART;TZID=Europe/Helsinki:20191216T180000
DTEND;TZID=Europe/Helsinki:20191216T200000
DTSTAMP:20260419T182146
CREATED:20191203T174923Z
LAST-MODIFIED:20191203T174923Z
UID:2396-1576519200-1576526400@www.hty.fi
SUMMARY:Jäsentapaaminen
DESCRIPTION:HTY:n joulukuun jäsentapaaminen pidetään maanantaina 16.12.2019 kello 18.00 HTY:n toimitilassa\, Raatihuoneenkatu 20\, Hämeenlinna. Kokouksessa ideoidaan puoluekokousaloitteita. Glogitarjoilu. Tervetuloa! \n
URL:https://www.hty.fi/event/jasentapaaminen-5/
LOCATION:Raatihuoneenkatu 20\, Hämeenlinna
CATEGORIES:Kuukausitapaaminen
END:VEVENT
END:VCALENDAR