BEGIN:VCALENDAR
VERSION:2.0
PRODID:-//Hämeenlinnan Työväenyhdistys ry - HTY - ECPv4.6.3//NONSGML v1.0//EN
CALSCALE:GREGORIAN
METHOD:PUBLISH
X-WR-CALNAME:Hämeenlinnan Työväenyhdistys ry - HTY
X-ORIGINAL-URL:https://www.hty.fi
X-WR-CALDESC:Events for Hämeenlinnan Työväenyhdistys ry - HTY
BEGIN:VEVENT
DTSTART;TZID=Europe/Helsinki:20191002T180000
DTEND;TZID=Europe/Helsinki:20191002T193000
DTSTAMP:20260419T154725
CREATED:20190802T124623Z
LAST-MODIFIED:20190928T124448Z
UID:2192-1570039200-1570044600@www.hty.fi
SUMMARY:Jäsentapaaminen\, teemana Toriparkki
DESCRIPTION:Lokakuun jäsentapaamisessa keskustelemme Toriparkista. Myös muiden sd-yhdistysten jäsenet ovat tervetulleita. \nAlustajina toimivat kaupunkirakennelautakunnan puheenjohtaja Pasi Vesala (klo 18-19.00)\, apulaiskaupunginjohtaja Juha Isosuo tai/ja kaupunkirakennejohtaja Tarja Majuri. \n
URL:https://www.hty.fi/event/jasentapaaminen-4/
LOCATION:Raatihuoneenkatu 20\, Hämeenlinna
CATEGORIES:Kuukausitapaaminen
ATTACH;FMTTYPE=image/jpeg:https://www.hty.fi/wp-content/uploads/2019/08/P-torista-on-moneksi.jpg
END:VEVENT
END:VCALENDAR