BEGIN:VCALENDAR
VERSION:2.0
PRODID:-//Hämeenlinnan Työväenyhdistys ry - HTY - ECPv4.6.3//NONSGML v1.0//EN
CALSCALE:GREGORIAN
METHOD:PUBLISH
X-WR-CALNAME:Hämeenlinnan Työväenyhdistys ry - HTY
X-ORIGINAL-URL:https://www.hty.fi
X-WR-CALDESC:Events for Hämeenlinnan Työväenyhdistys ry - HTY
BEGIN:VEVENT
DTSTART;TZID=Europe/Helsinki:20240124T180000
DTEND;TZID=Europe/Helsinki:20240124T193000
DTSTAMP:20260419T214547
CREATED:20240113T150013Z
LAST-MODIFIED:20240113T150502Z
UID:5327-1706119200-1706124600@www.hty.fi
SUMMARY:Jäsenkokous
DESCRIPTION:Jäsenkokouksen teemana on Kössi-säätiö ja sen sääntömuutokset. \nHämeenlinnan Työväenyhdistys vietti satavuotisjuhlaansa vuonna 1988. Juhlakokouksessaan yhdistys päätti perustaa Hämeenlinnaan vanhus- ja lähimmäispalvelusäätiön\, Kössi-säätiön. Kössi-säätiö sai nimensä kansanedustaja Eero ”Kössi” Salolta (4.7.1921–13.10.1975). Säätiötä ja sen toimintaa esittelee Jukka Jokinen. \n
URL:https://www.hty.fi/event/jasenkokous-5/
LOCATION:Raatihuoneenkatu 20\, Hämeenlinna
CATEGORIES:Kokous
ATTACH;FMTTYPE=image/jpeg:https://www.hty.fi/wp-content/uploads/2024/01/Kössi-säätiön-Kaurialan-palvelutalo-harjakaisten-aikaan-25041991-kuva-Aarne-Kauranen.jpg
END:VEVENT
END:VCALENDAR