BEGIN:VCALENDAR
VERSION:2.0
PRODID:-//Hämeenlinnan Työväenyhdistys ry - HTY - ECPv4.6.3//NONSGML v1.0//EN
CALSCALE:GREGORIAN
METHOD:PUBLISH
X-WR-CALNAME:Hämeenlinnan Työväenyhdistys ry - HTY
X-ORIGINAL-URL:https://www.hty.fi
X-WR-CALDESC:Events for Hämeenlinnan Työväenyhdistys ry - HTY
BEGIN:VEVENT
DTSTART;TZID=Europe/Helsinki:20230503T180000
DTEND;TZID=Europe/Helsinki:20230503T193000
DTSTAMP:20260421T092523
CREATED:20230423T125046Z
LAST-MODIFIED:20230423T125046Z
UID:4860-1683136800-1683142200@www.hty.fi
SUMMARY:Jäsenkokous
DESCRIPTION:
URL:https://www.hty.fi/event/jasenkokous-4/
LOCATION:Raatihuoneenkatu 20\, Hämeenlinna
CATEGORIES:Kokous
ATTACH;FMTTYPE=image/jpeg:https://www.hty.fi/wp-content/uploads/2023/04/Kutsu-HTYn-jäsenkokoukseen-03052023.jpg
END:VEVENT
END:VCALENDAR