BEGIN:VCALENDAR
VERSION:2.0
PRODID:-//Hämeenlinnan Työväenyhdistys ry - HTY - ECPv4.6.3//NONSGML v1.0//EN
CALSCALE:GREGORIAN
METHOD:PUBLISH
X-WR-CALNAME:Hämeenlinnan Työväenyhdistys ry - HTY
X-ORIGINAL-URL:https://www.hty.fi
X-WR-CALDESC:Events for Hämeenlinnan Työväenyhdistys ry - HTY
BEGIN:VEVENT
DTSTART;TZID=Europe/Helsinki:20180928T180000
DTEND;TZID=Europe/Helsinki:20180928T200000
DTSTAMP:20260421T092849
CREATED:20180920T181531Z
LAST-MODIFIED:20180920T181850Z
UID:1541-1538157600-1538164800@www.hty.fi
SUMMARY:Iltakahvit Pimeän kaupan iltana
DESCRIPTION:Hämeenlinnan Työväenyhdistys tarjoaa toimitilassaan kahvit Pimeän kaupan iltana\, perjantaina 28.9.2018. Tervetuloa keskustelemaan ajankohtaisista kaupunkipoliittisista asioista! \n
URL:https://www.hty.fi/event/iltakahvit-pimean-kaupan-iltana/
LOCATION:Raatihuoneenkatu 20\, Hämeenlinna
CATEGORIES:Tapahtuma
ATTACH;FMTTYPE=image/jpeg:https://www.hty.fi/wp-content/uploads/2017/01/Pimeän-kaupan-ilta.jpg
END:VEVENT
END:VCALENDAR