BEGIN:VCALENDAR
VERSION:2.0
PRODID:-//Hämeenlinnan Työväenyhdistys ry - HTY - ECPv4.6.3//NONSGML v1.0//EN
CALSCALE:GREGORIAN
METHOD:PUBLISH
X-WR-CALNAME:Hämeenlinnan Työväenyhdistys ry - HTY
X-ORIGINAL-URL:https://www.hty.fi
X-WR-CALDESC:Events for Hämeenlinnan Työväenyhdistys ry - HTY
BEGIN:VEVENT
DTSTART;TZID=Europe/Helsinki:20170518T180000
DTEND;TZID=Europe/Helsinki:20170518T193000
DTSTAMP:20260421T080617
CREATED:20170424T182533Z
LAST-MODIFIED:20170424T182533Z
UID:875-1495130400-1495135800@www.hty.fi
SUMMARY:HTY:n uusien jäsenten ilta
DESCRIPTION:HTY kutsuu uudet jäsensä iltakahville. Heidät perehdytetään HTY:n toimintakulttuuriin ja ajankohtaisiin asioihin. Kysymyksiin vastaavat mm. jäsensihteeri Marita Pekkarinen ja puheenjohtaja Kirsti Suoranta. \n
URL:https://www.hty.fi/event/htyn-uusien-jasenten-ilta/
LOCATION:Raatihuoneenkatu 20\, Hämeenlinna
CATEGORIES:Teematapahtuma
END:VEVENT
END:VCALENDAR