BEGIN:VCALENDAR
VERSION:2.0
PRODID:-//Hämeenlinnan Työväenyhdistys ry - HTY - ECPv4.6.3//NONSGML v1.0//EN
CALSCALE:GREGORIAN
METHOD:PUBLISH
X-WR-CALNAME:Hämeenlinnan Työväenyhdistys ry - HTY
X-ORIGINAL-URL:https://www.hty.fi
X-WR-CALDESC:Events for Hämeenlinnan Työväenyhdistys ry - HTY
BEGIN:VEVENT
DTSTART;TZID=Europe/Helsinki:20171102T180000
DTEND;TZID=Europe/Helsinki:20171102T200000
DTSTAMP:20260421T092642
CREATED:20170622T104837Z
LAST-MODIFIED:20171006T085957Z
UID:935-1509645600-1509652800@www.hty.fi
SUMMARY:HTY:n syyskokous
DESCRIPTION:Esillä sääntömääräiset asiat sekä johtokunnan täydentäminen. Kokouksen aluksi Hämeen Sosialidemokraattien toiminnanjohtaja Pirjo Alijärvi pitää poliittisen ajankohtaiskatsauksen. \n  \n
URL:https://www.hty.fi/event/htyn-syyskokous/
LOCATION:Raatihuoneenkatu 20\, Hämeenlinna
CATEGORIES:Kokous
END:VEVENT
END:VCALENDAR