BEGIN:VCALENDAR
VERSION:2.0
PRODID:-//Hämeenlinnan Työväenyhdistys ry - HTY - ECPv4.6.3//NONSGML v1.0//EN
CALSCALE:GREGORIAN
METHOD:PUBLISH
X-WR-CALNAME:Hämeenlinnan Työväenyhdistys ry - HTY
X-ORIGINAL-URL:https://www.hty.fi
X-WR-CALDESC:Events for Hämeenlinnan Työväenyhdistys ry - HTY
BEGIN:VEVENT
DTSTART;TZID=Europe/Helsinki:20170421T160000
DTEND;TZID=Europe/Helsinki:20170421T180000
DTSTAMP:20260421T082051
CREATED:20170313T192009Z
LAST-MODIFIED:20170412T154920Z
UID:641-1492790400-1492797600@www.hty.fi
SUMMARY:Kiitoskakkukahvit
DESCRIPTION:Kuntavaalien kiitoskakkukahvit kaupunkilaisille HTY:n toimitilassa. Tervetuloa! \n
URL:https://www.hty.fi/event/htyn-kuukausitapaaminen/
LOCATION:Raatihuoneenkatu 20\, Hämeenlinna
CATEGORIES:Tapahtuma
END:VEVENT
END:VCALENDAR