BEGIN:VCALENDAR
VERSION:2.0
PRODID:-//Hämeenlinnan Työväenyhdistys ry - HTY - ECPv4.6.3//NONSGML v1.0//EN
CALSCALE:GREGORIAN
METHOD:PUBLISH
X-WR-CALNAME:Hämeenlinnan Työväenyhdistys ry - HTY
X-ORIGINAL-URL:https://www.hty.fi
X-WR-CALDESC:Events for Hämeenlinnan Työväenyhdistys ry - HTY
BEGIN:VEVENT
DTSTART;TZID=Europe/Helsinki:20180510T130000
DTEND;TZID=Europe/Helsinki:20180510T153000
DTSTAMP:20260419T183141
CREATED:20180307T193903Z
LAST-MODIFIED:20180423T181000Z
UID:1292-1525957200-1525966200@www.hty.fi
SUMMARY:HTY:n kevätretki: opastettu kiertoajelu Hämeenlinnassa
DESCRIPTION:HTY:n kevätretkellä historia ja nykypäivä kohtaavat. Kirsti Suorannan opastama\, ilmainen kiertoajelu vie helatorstaina tutustumaan HTY:lle ja työväenliikkeelle merkittäviin paikkoihin Hämeenlinnassa ja kertoo\, miten HTY on mukana kehittämässä tätä kaupunkia. Bussiajelulla tutustutaan 130-vuotiaan yhdistyksen historiaan liittyviin kohteisiin\, mutta myös kaupungin nykypäivään ja vireillä oleviin hankkeisiin\, kuten koulujen korjauksiin ja muuttosuunnitelmiin. \nAluksi kiertelemme kaupungin keskustassa\, sitten moottoritien länsipuolella\, muun muassa Ahveniston urheilukeskuksessa. Piipahdamme myös Hätilässä ja Sairiossa\, käymme katsomassa muraalia Kantolassa ja palaamme keskustaan Hämeen ammattikorkeakoulun kampuksen kautta. \nJaloittelutauolla HTY tarjoaa kahvit Kantolan siirtolapuutarhassa. Sen vuoksi ilmoittaudu 6.5.2018 mennessä HTY:n sähköpostiin hml.tyovaenyhdistys(at)outlook.com. \n  \n
URL:https://www.hty.fi/event/htyn-kevatretki-opastettu-kiertoajelu-punaisessa-hameenlinnassa/
LOCATION:Wetterhoffinkatu 4\, Hämeenlinna\, Suomi
CATEGORIES:Retki,Teematapahtuma
ATTACH;FMTTYPE=image/jpeg:https://www.hty.fi/wp-content/uploads/2017/01/Pekolan-Liikenteen-bussi.jpg
END:VEVENT
END:VCALENDAR