BEGIN:VCALENDAR
VERSION:2.0
PRODID:-//Hämeenlinnan Työväenyhdistys ry - HTY - ECPv4.6.3//NONSGML v1.0//EN
CALSCALE:GREGORIAN
METHOD:PUBLISH
X-WR-CALNAME:Hämeenlinnan Työväenyhdistys ry - HTY
X-ORIGINAL-URL:https://www.hty.fi
X-WR-CALDESC:Events for Hämeenlinnan Työväenyhdistys ry - HTY
BEGIN:VEVENT
DTSTART;TZID=Europe/Helsinki:20190318T180000
DTEND;TZID=Europe/Helsinki:20190318T200000
DTSTAMP:20260419T231450
CREATED:20190119T150428Z
LAST-MODIFIED:20190119T150428Z
UID:1896-1552932000-1552939200@www.hty.fi
SUMMARY:HTY:n kevätkokous
DESCRIPTION:Sääntömääräiset asiat (mm. toimintakertomus ja tilinpäätös) sekä eduskuntavaaliehdokkaiden esittäytyminen. \n
URL:https://www.hty.fi/event/htyn-kevatkokous-3/
LOCATION:Raatihuoneenkatu 20\, Hämeenlinna
CATEGORIES:Kokous
END:VEVENT
END:VCALENDAR