BEGIN:VCALENDAR
VERSION:2.0
PRODID:-//Hämeenlinnan Työväenyhdistys ry - HTY - ECPv4.6.3//NONSGML v1.0//EN
CALSCALE:GREGORIAN
METHOD:PUBLISH
X-WR-CALNAME:Hämeenlinnan Työväenyhdistys ry - HTY
X-ORIGINAL-URL:https://www.hty.fi
X-WR-CALDESC:Events for Hämeenlinnan Työväenyhdistys ry - HTY
BEGIN:VEVENT
DTSTART;TZID=Europe/Helsinki:20190605T170000
DTEND;TZID=Europe/Helsinki:20190605T193000
DTSTAMP:20260419T193228
CREATED:20190119T151050Z
LAST-MODIFIED:20190520T180201Z
UID:1902-1559754000-1559763000@www.hty.fi
SUMMARY:HTY:n johtokunnan kokous
DESCRIPTION:
URL:https://www.hty.fi/event/htyn-johtokunnan-kokous-20/
LOCATION:Lautatarhankatu 9\, Hämeenlinna\, 13110\, Suomi
CATEGORIES:Johtokunta,Kokous
END:VEVENT
END:VCALENDAR