BEGIN:VCALENDAR
VERSION:2.0
PRODID:-//Hämeenlinnan Työväenyhdistys ry - HTY - ECPv4.6.3//NONSGML v1.0//EN
CALSCALE:GREGORIAN
METHOD:PUBLISH
X-WR-CALNAME:Hämeenlinnan Työväenyhdistys ry - HTY
X-ORIGINAL-URL:https://www.hty.fi
X-WR-CALDESC:Events for Hämeenlinnan Työväenyhdistys ry - HTY
BEGIN:VEVENT
DTSTART;TZID=Europe/Helsinki:20190129T160000
DTEND;TZID=Europe/Helsinki:20190129T173000
DTSTAMP:20260420T033558
CREATED:20190119T144818Z
LAST-MODIFIED:20190127T130252Z
UID:1886-1548777600-1548783000@www.hty.fi
SUMMARY:HTY:n johtokunnan kokous
DESCRIPTION:
URL:https://www.hty.fi/event/htyn-johtokunnan-kokous-16/
LOCATION:Hämeenlinna
CATEGORIES:Johtokunta,Kokous
END:VEVENT
END:VCALENDAR