BEGIN:VCALENDAR
VERSION:2.0
PRODID:-//Hämeenlinnan Työväenyhdistys ry - HTY - ECPv4.6.3//NONSGML v1.0//EN
CALSCALE:GREGORIAN
METHOD:PUBLISH
X-WR-CALNAME:Hämeenlinnan Työväenyhdistys ry - HTY
X-ORIGINAL-URL:https://www.hty.fi
X-WR-CALDESC:Events for Hämeenlinnan Työväenyhdistys ry - HTY
BEGIN:VEVENT
DTSTART;TZID=Europe/Helsinki:20180423T170000
DTEND;TZID=Europe/Helsinki:20180423T190000
DTSTAMP:20260419T194209
CREATED:20180113T174005Z
LAST-MODIFIED:20180423T181152Z
UID:1192-1524502800-1524510000@www.hty.fi
SUMMARY:HTY:n johtokunnan kokous
DESCRIPTION:
URL:https://www.hty.fi/event/htyn-johtokunnan-kokous-15/
CATEGORIES:Johtokunta,Kokous
END:VEVENT
END:VCALENDAR