BEGIN:VCALENDAR
VERSION:2.0
PRODID:-//Hämeenlinnan Työväenyhdistys ry - HTY - ECPv4.6.3//NONSGML v1.0//EN
CALSCALE:GREGORIAN
METHOD:PUBLISH
X-WR-CALNAME:Hämeenlinnan Työväenyhdistys ry - HTY
X-ORIGINAL-URL:https://www.hty.fi
X-WR-CALDESC:Events for Hämeenlinnan Työväenyhdistys ry - HTY
BEGIN:VEVENT
DTSTART;TZID=Europe/Helsinki:20180307T170000
DTEND;TZID=Europe/Helsinki:20180307T180000
DTSTAMP:20260419T205859
CREATED:20180113T165848Z
LAST-MODIFIED:20180113T165848Z
UID:1175-1520442000-1520445600@www.hty.fi
SUMMARY:HTY:n johtokunnan kokous
DESCRIPTION:
URL:https://www.hty.fi/event/htyn-johtokunnan-kokous-14/
LOCATION:Raatihuoneenkatu 20\, Hämeenlinna
CATEGORIES:Johtokunta,Kokous
END:VEVENT
END:VCALENDAR