BEGIN:VCALENDAR
VERSION:2.0
PRODID:-//Hämeenlinnan Työväenyhdistys ry - HTY - ECPv4.6.3//NONSGML v1.0//EN
CALSCALE:GREGORIAN
METHOD:PUBLISH
X-WR-CALNAME:Hämeenlinnan Työväenyhdistys ry - HTY
X-ORIGINAL-URL:https://www.hty.fi
X-WR-CALDESC:Events for Hämeenlinnan Työväenyhdistys ry - HTY
BEGIN:VEVENT
DTSTART;TZID=Europe/Helsinki:20180113T133000
DTEND;TZID=Europe/Helsinki:20180113T140000
DTSTAMP:20260419T221512
CREATED:20171217T163606Z
LAST-MODIFIED:20180101T195445Z
UID:1128-1515850200-1515852000@www.hty.fi
SUMMARY:HTY:n johtokunnan kokous
DESCRIPTION:Johtokunta pitää kokouksen suunnitteluseminaarin yhteydessä. \n
URL:https://www.hty.fi/event/htyn-johtokunnan-kokous-11/
LOCATION:Raatihuoneenkatu 20\, Hämeenlinna
CATEGORIES:Johtokunta,Kokous
END:VEVENT
END:VCALENDAR