BEGIN:VCALENDAR
VERSION:2.0
PRODID:-//Hämeenlinnan Työväenyhdistys ry - HTY - ECPv4.6.3//NONSGML v1.0//EN
CALSCALE:GREGORIAN
METHOD:PUBLISH
X-WR-CALNAME:Hämeenlinnan Työväenyhdistys ry - HTY
X-ORIGINAL-URL:https://www.hty.fi
X-WR-CALDESC:Events for Hämeenlinnan Työväenyhdistys ry - HTY
BEGIN:VEVENT
DTSTART;TZID=Europe/Helsinki:20181204T180000
DTEND;TZID=Europe/Helsinki:20181204T193000
DTSTAMP:20260419T193054
CREATED:20180509T184353Z
LAST-MODIFIED:20181203T102351Z
UID:1397-1543946400-1543951800@www.hty.fi
SUMMARY:HTY:n 130 vuotta
DESCRIPTION:HTY:n historian kirjoittaja Liisa Koskelainen kertoo HTY:n 130-vuotisesta historiasta ja esittelee yhdistyksen vasta  julkaistun historiakirjan\, ”Politiikan punainen lanka”. Kirjaa on myös myynnissä 25 euron hintaan. Maksu käteisellä\, kiitos! \n
URL:https://www.hty.fi/event/htyn-130-vuotta/
LOCATION:Raatihuoneenkatu 20\, Hämeenlinna
CATEGORIES:Luento
ATTACH;FMTTYPE=image/jpeg:https://www.hty.fi/wp-content/uploads/2018/10/politiikan-punainen-lanka_ETUKANSI-lopullinen.jpg
END:VEVENT
END:VCALENDAR