BEGIN:VCALENDAR
VERSION:2.0
PRODID:-//Hämeenlinnan Työväenyhdistys ry - HTY - ECPv4.6.3//NONSGML v1.0//EN
CALSCALE:GREGORIAN
METHOD:PUBLISH
X-WR-CALNAME:Hämeenlinnan Työväenyhdistys ry - HTY
X-ORIGINAL-URL:https://www.hty.fi
X-WR-CALDESC:Events for Hämeenlinnan Työväenyhdistys ry - HTY
BEGIN:VEVENT
DTSTART;TZID=Europe/Helsinki:20180824T180000
DTEND;TZID=Europe/Helsinki:20180824T200000
DTSTAMP:20260419T181310
CREATED:20180813T190757Z
LAST-MODIFIED:20180813T190757Z
UID:1501-1535133600-1535140800@www.hty.fi
SUMMARY:HTY taiteiden yössä
DESCRIPTION:HTY on mukana taiteiden yössä: \nTule askartelemaan lapsesi kanssa HTY:n toimitilaan perjantaina 24.8.2018 kello 18–20. Tarjolla on myös limua ja keksejä sekä tietoa HTY:stä. \n
URL:https://www.hty.fi/event/hty-taiteiden-yossa/
LOCATION:Raatihuoneenkatu 20\, Hämeenlinna
CATEGORIES:Tapahtuma
ATTACH;FMTTYPE=image/jpeg:https://www.hty.fi/wp-content/uploads/2017/01/Lapset-piirtelemässä-rajattu-SDPn-kuvapankki.jpg
END:VEVENT
END:VCALENDAR